BEGIN:VCALENDAR
VERSION:2.0
PRODID:-//Squarespace Inc/Squarespace 6//v6//EN
BEGIN:VEVENT
UID:5f0d410e65f06c79eaa510f6@squarespace.com
DTSTAMP:20200731T061331Z
DTSTART:20200805T010000Z
DTEND:20200805T014500Z
SUMMARY:WEBINAR: Leveraging Debtors for Effective Client Engagement 
END:VEVENT
END:VCALENDAR
