BEGIN:VCALENDAR
VERSION:2.0
PRODID:-//Squarespace Inc/Squarespace 6//v6//EN
BEGIN:VEVENT
UID:5f7fee4c9bd1670be70df1a3@squarespace.com
DTSTAMP:20201028T070101Z
DTSTART:20201028T003000Z
DTEND:20201028T013000Z
SUMMARY:WEBINAR: How to Get Your Clients to Pay for the Work You’re Doing N
 ow
END:VEVENT
END:VCALENDAR
