BEGIN:VCALENDAR
VERSION:2.0
PRODID:-//Squarespace Inc/Squarespace 6//v6//EN
BEGIN:VEVENT
UID:5f99172d7305aa1d7d89ab2c@squarespace.com
DTSTAMP:20201029T034337Z
DTSTART:20201105T040000Z
DTEND:20201105T050000Z
SUMMARY:WEBINAR: How to Get Your Clients to Pay for the Work You’re Doing N
 ow
END:VEVENT
END:VCALENDAR
