BEGIN:VCALENDAR
VERSION:2.0
PRODID:-//Squarespace Inc/Squarespace 6//v6//EN
BEGIN:VEVENT
UID:5f0d410e65f06c79eaa510f8@squarespace.com
DTSTAMP:20200813T220454Z
DTSTART:20200827T003000Z
DTEND:20200827T013000Z
SUMMARY:WEBINAR: Efficiency + Effectiveness – the Keys to Being Agile
END:VEVENT
END:VCALENDAR
